BEGIN:VCALENDAR
VERSION:2.0
PRODID:-//wp-events-plugin.com//7.2.1//EN
TZID:Europe/London
X-WR-TIMEZONE:Europe/London
BEGIN:VEVENT
UID:1620@sunrooms2.com
DTSTART;TZID=Europe/London:20260617T180000
DTEND;TZID=Europe/London:20260618T020000
DTSTAMP:20260302T115921Z
URL:https://sunrooms2.com/events/wednesday-17th-june-world-cup-fan-zone-do
 ors-open-6pm/
SUMMARY:Wednesday 17th June - World Cup Fan Zone - Doors Open 6pm
DESCRIPTION:Sunrooms2 Present the 2026 World Cup Fan Zone - ENGLAND V CROAT
 IA - Doors open 6pm - Sunrooms2 resident Djs playing over 3 areas all with
  3 Large screens and fantastic sound system - Expect the finest warm up se
 ssion until kick off - More music through the half time break and a Fantas
 tic Victory Party until 2am - BBQ will be served til 11pm - Tickets on Ski
 ddle. 
ATTACH;FMTTYPE=image/jpeg:https://sunrooms2.com/wp-content/uploads/2026/01
 /Screenshot_20260302_112154_Gmail.jpg
CATEGORIES:Disco,Disco House,Funky House,House
END:VEVENT
BEGIN:VTIMEZONE
TZID:Europe/London
X-LIC-LOCATION:Europe/London
BEGIN:DAYLIGHT
DTSTART:20260329T020000
TZOFFSETFROM:+0000
TZOFFSETTO:+0100
TZNAME:BST
END:DAYLIGHT
END:VTIMEZONE
END:VCALENDAR