BEGIN:VCALENDAR
VERSION:2.0
PRODID:-//wp-events-plugin.com//7.2.1//EN
TZID:Europe/London
X-WR-TIMEZONE:Europe/London
BEGIN:VEVENT
UID:1621@sunrooms2.com
DTSTART;TZID=Europe/London:20260623T180000
DTEND;TZID=Europe/London:20260624T020000
DTSTAMP:20260302T120323Z
URL:https://sunrooms2.com/events/tuesday-23rd-june-world-cup-fan-zone-door
 s-open-6pm/
SUMMARY:Tuesday 23rd June - World Cup Fan Zone - Doors Open 6pm
DESCRIPTION:Sunrooms2 Present the 2026 World Cup Fan Zone - ENGLAND V GHANA
  - Doors open 6pm - Sunrooms2 resident Djs playing over 3 areas all with 3
  Large screens and fantastic sound system - Expect the finest warm up sess
 ion until kick off - More music through the half time break and a Fantasti
 c Victory Party until 2am - BBQ will be served til 11pm - Tickets on Skidd
 le. 
ATTACH;FMTTYPE=image/jpeg:https://sunrooms2.com/wp-content/uploads/2026/01
 /Screenshot_20260302_112221_Gmail.jpg
CATEGORIES:Disco,Disco House,Funky House,House
END:VEVENT
BEGIN:VTIMEZONE
TZID:Europe/London
X-LIC-LOCATION:Europe/London
BEGIN:DAYLIGHT
DTSTART:20260329T020000
TZOFFSETFROM:+0000
TZOFFSETTO:+0100
TZNAME:BST
END:DAYLIGHT
END:VTIMEZONE
END:VCALENDAR