BEGIN:VCALENDAR
VERSION:2.0
PRODID:-//wp-events-plugin.com//7.2.1//EN
TZID:Europe/London
X-WR-TIMEZONE:Europe/London
BEGIN:VEVENT
UID:1000@sunrooms2.com
DTSTART;TZID=Europe/London:20250824T140000
DTEND;TZID=Europe/London:20250825T030000
DTSTAMP:20250731T162607Z
URL:https://sunrooms2.com/events/sunday-24th-august-mass-bank-holiday-day-
 into-night/
SUMMARY:Sunday 24th August - Mass Bank Holiday Day into Night
DESCRIPTION:Mass was born at the Sunrooms 14 years ago and  continues to b
 low the roof off.\n\nThis crowd knows how to party. Top quality residents 
 Reece Brett and Pierre Codarin are joined by some of the worlds best DJs.\
 n\nTickets: RA
ATTACH;FMTTYPE=image/jpeg:https://sunrooms2.com/wp-content/uploads/2024/11
 /mass.jpg
CATEGORIES:Deep House,Deep Tech,House Music,Tech House
END:VEVENT
BEGIN:VTIMEZONE
TZID:Europe/London
X-LIC-LOCATION:Europe/London
BEGIN:DAYLIGHT
DTSTART:20250330T020000
TZOFFSETFROM:+0000
TZOFFSETTO:+0100
TZNAME:BST
END:DAYLIGHT
END:VTIMEZONE
END:VCALENDAR