BEGIN:VCALENDAR
VERSION:2.0
PRODID:-//wp-events-plugin.com//7.2.1//EN
TZID:Europe/London
X-WR-TIMEZONE:Europe/London
BEGIN:VEVENT
UID:1556@sunrooms2.com
DTSTART;TZID=Europe/London:20260905T200000
DTEND;TZID=Europe/London:20260906T030000
DTSTAMP:20260106T080435Z
URL:https://sunrooms2.com/events/saturday-5th-september-bring-the-house-do
 wn/
SUMMARY:Saturday 5th  September - Bring The House Down
DESCRIPTION:
ATTACH;FMTTYPE=image/jpeg:https://sunrooms2.com/wp-content/uploads/2025/11
 /IMG-20251105-WA0021.jpg
CATEGORIES:DeepSoul,Disco,Funky House,Funky Soul,Latin House,Soulful
 House,Underground House,Uplifting Vocal House,Vocal House
END:VEVENT
BEGIN:VTIMEZONE
TZID:Europe/London
X-LIC-LOCATION:Europe/London
BEGIN:DAYLIGHT
DTSTART:20260329T020000
TZOFFSETFROM:+0000
TZOFFSETTO:+0100
TZNAME:BST
END:DAYLIGHT
END:VTIMEZONE
END:VCALENDAR