BEGIN:VCALENDAR
VERSION:2.0
PRODID:-//wp-events-plugin.com//7.2.1//EN
TZID:Europe/London
X-WR-TIMEZONE:Europe/London
BEGIN:VEVENT
UID:967@sunrooms2.com
DTSTART;TZID=Europe/London:20250405T190000
DTEND;TZID=Europe/London:20250406T030000
DTSTAMP:20250329T143142Z
URL:https://sunrooms2.com/events/saturday-5th-april-bring-the-house-down/
SUMMARY:Saturday 5th April - Bring The House Down
DESCRIPTION:Darren H presents this amazing Funky House Party\n\ntickets: Ev
 entbrite
ATTACH;FMTTYPE=image/jpeg:https://sunrooms2.com/wp-content/uploads/2025/03
 /Flyer-14.3.25-600.jpg
CATEGORIES:Funky House,House Music
END:VEVENT
BEGIN:VTIMEZONE
TZID:Europe/London
X-LIC-LOCATION:Europe/London
BEGIN:DAYLIGHT
DTSTART:20250330T020000
TZOFFSETFROM:+0000
TZOFFSETTO:+0100
TZNAME:BST
END:DAYLIGHT
END:VTIMEZONE
END:VCALENDAR