BEGIN:VCALENDAR
VERSION:2.0
PRODID:-//wp-events-plugin.com//7.2.1//EN
TZID:Europe/London
X-WR-TIMEZONE:Europe/London
BEGIN:VEVENT
UID:1004@sunrooms2.com
DTSTART;TZID=Europe/London:20251004T200000
DTEND;TZID=Europe/London:20251005T030000
DTSTAMP:20250930T125808Z
URL:https://sunrooms2.com/events/saturday-4th-october-sunrooms-presents/
SUMMARY:Saturday 4th October - Sunrooms Presents
DESCRIPTION:Sunrooms Presents returns for a night of house &amp\; tech hous
 e.\n\nTickets: Skiddle\n
ATTACH;FMTTYPE=image/jpeg:https://sunrooms2.com/wp-content/uploads/2024/11
 /sunrooms-presents-4-oct-600.jpg
CATEGORIES:Deep House,House Music,Tech House
END:VEVENT
BEGIN:VTIMEZONE
TZID:Europe/London
X-LIC-LOCATION:Europe/London
BEGIN:DAYLIGHT
DTSTART:20250330T020000
TZOFFSETFROM:+0000
TZOFFSETTO:+0100
TZNAME:BST
END:DAYLIGHT
END:VTIMEZONE
END:VCALENDAR