BEGIN:VCALENDAR
VERSION:2.0
PRODID:-//wp-events-plugin.com//7.2.1//EN
TZID:Europe/London
X-WR-TIMEZONE:Europe/London
BEGIN:VEVENT
UID:1714@sunrooms2.com
DTSTART;TZID=Europe/London:20261003T200000
DTEND;TZID=Europe/London:20261004T030000
DTSTAMP:20260408T210758Z
URL:https://sunrooms2.com/events/saturday-3rd-october-in-effect-bar-terrac
 e/
SUMMARY:Saturday 3rd October - In Effect - Bar & Terrace
DESCRIPTION:
ATTACH;FMTTYPE=image/jpeg:https://sunrooms2.com/wp-content/uploads/2026/01
 /Screenshot_20260108_103126_WhatsApp.jpg
CATEGORIES:Funky House,Garage,Tech House
END:VEVENT
BEGIN:VTIMEZONE
TZID:Europe/London
X-LIC-LOCATION:Europe/London
BEGIN:DAYLIGHT
DTSTART:20260329T020000
TZOFFSETFROM:+0000
TZOFFSETTO:+0100
TZNAME:BST
END:DAYLIGHT
END:VTIMEZONE
END:VCALENDAR