BEGIN:VCALENDAR
VERSION:2.0
PRODID:-//wp-events-plugin.com//7.2.1//EN
TZID:Europe/London
X-WR-TIMEZONE:Europe/London
BEGIN:VEVENT
UID:1560@sunrooms2.com
DTSTART;TZID=Europe/London:20261031T200000
DTEND;TZID=Europe/London:20261101T040000
DTSTAMP:20251128T160319Z
URL:https://sunrooms2.com/events/saturday-31st-october-edisco-halloween-pa
 rty/
SUMMARY:Saturday 31st October  - EDisco - Halloween Party
DESCRIPTION:This top quality Funky House night packs out. All in aid of Cha
 rity and in memory of ED. This ticketed event always sells out !\n\nTicket
 s: RA
ATTACH;FMTTYPE=image/jpeg:https://sunrooms2.com/wp-content/uploads/2024/11
 /generic-4x5_600.jpg
CATEGORIES:Funky House
END:VEVENT
BEGIN:VTIMEZONE
TZID:Europe/London
X-LIC-LOCATION:Europe/London
BEGIN:STANDARD
DTSTART:20261025T010000
TZOFFSETFROM:+0100
TZOFFSETTO:+0000
TZNAME:GMT
END:STANDARD
END:VTIMEZONE
END:VCALENDAR