BEGIN:VCALENDAR
VERSION:2.0
PRODID:-//wp-events-plugin.com//7.2.1//EN
TZID:Europe/London
X-WR-TIMEZONE:Europe/London
BEGIN:VEVENT
UID:1532@sunrooms2.com
DTSTART;TZID=Europe/London:20260328T200000
DTEND;TZID=Europe/London:20260329T030000
DTSTAMP:20260218T082230Z
URL:https://sunrooms2.com/events/saturday-28th-march-novatone-in-the-bar/
SUMMARY:Saturday 28th  March - Novatone - Bar &  Loft
DESCRIPTION:Novatone is an Essex based house event that focuses on introduc
 ing up and coming talent\, experienced DJs in the game as well as big face
 s across the industry.\n\nWith a blend of funky\, groovy and deep house\, 
 Novatone offers a party for everyone\n\nTickets on www.skiddle.com
ATTACH;FMTTYPE=image/jpeg:https://sunrooms2.com/wp-content/uploads/2025/11
 /Screenshot_20260102_201904_Video-Player.jpg
CATEGORIES:Tech House
END:VEVENT
BEGIN:VTIMEZONE
TZID:Europe/London
X-LIC-LOCATION:Europe/London
BEGIN:STANDARD
DTSTART:20251026T010000
TZOFFSETFROM:+0100
TZOFFSETTO:+0000
TZNAME:GMT
END:STANDARD
BEGIN:DAYLIGHT
DTSTART:20260329T020000
TZOFFSETFROM:+0000
TZOFFSETTO:+0100
TZNAME:BST
END:DAYLIGHT
END:VTIMEZONE
END:VCALENDAR