BEGIN:VCALENDAR
VERSION:2.0
PRODID:-//wp-events-plugin.com//7.2.1//EN
TZID:Europe/London
X-WR-TIMEZONE:Europe/London
BEGIN:VEVENT
UID:1622@sunrooms2.com
DTSTART;TZID=Europe/London:20260627T140000
DTEND;TZID=Europe/London:20260628T030000
DTSTAMP:20260302T120610Z
URL:https://sunrooms2.com/events/saturday-27th-june-world-cup-fan-zone-doo
 rs-open-6pm/
SUMMARY:Saturday 27th June  - World Cup Fan Zone - Doors Open 2pm - Kick Of
 f 10pm
DESCRIPTION:Sunrooms2 Present the 2026 World Cup Fan Zone - ENGLAND V PANAM
 A - Doors open 2pm - Sunrooms2 Promoters - Bougee Host the Bar and Garden 
 from 2pm - 10pm - Sunshine host the Bar From 10pm - 3am - The Legendary Tr
 evor Fung Hosts the Loft 10pm - 3am  -  3 areas all with 3 Large screens a
 nd fantastic sound system - Expect the finest warm up session until kick o
 ff - More music through the half time break and a Fantastic Victory Party 
 until 3am - BBQ will be served til 11pm - Tickets on Skiddle. This does no
 t get any better 
ATTACH;FMTTYPE=image/jpeg:https://sunrooms2.com/wp-content/uploads/2026/01
 /Screenshot_20260302_112210_Gmail.jpg
CATEGORIES:Disco,Disco House,Funky House,House
END:VEVENT
BEGIN:VTIMEZONE
TZID:Europe/London
X-LIC-LOCATION:Europe/London
BEGIN:DAYLIGHT
DTSTART:20260329T020000
TZOFFSETFROM:+0000
TZOFFSETTO:+0100
TZNAME:BST
END:DAYLIGHT
END:VTIMEZONE
END:VCALENDAR