BEGIN:VCALENDAR
VERSION:2.0
PRODID:-//wp-events-plugin.com//7.2.1//EN
TZID:Europe/London
X-WR-TIMEZONE:Europe/London
BEGIN:VEVENT
UID:1570@sunrooms2.com
DTSTART;TZID=Europe/London:20260829T140000
DTEND;TZID=Europe/London:20260830T220000
DTSTAMP:20260216T143209Z
URL:https://sunrooms2.com/events/saturday-27th-june-bourgee-day-party-2pm-
 10am/
SUMMARY:Saturday 29th August - Bourgee - Day Party - 2pm - 10pm
DESCRIPTION:✨ BOUGEE DAY PARTY ✨\nPresented by @boujee_events_essex\n\n
 We’re bringing premium energy to Sunrooms2\, Southend for an unmissable 
 House + Garage day party ☀️🔊\n\nExpect high-energy house grooves\, 
 garage anthems and nonstop movement all day long 🎶🔥\nA stylish crowd
 \, elite sound\, cocktails flowing and that signature Bougee atmosphere 
 🥂💃🏽\n\n🎧 On the decks:\n🔥 Archie Stone\n🔥 Aaron Reidy\n
 ✨ + more DJs to be announced\n\nClassy vibes\, heavy tunes and pure day 
 party madness — and when the sun sets\, we keep it rolling 🌙🍸\n\n
 📅 Saturday 27 June 2026\n⏰ 14:00 – 22:00\n📍 Sunrooms2\, Southend
 \n🌙 Afterparty in the bar ‘til 3AM\n\n🎟 Tickets on sale soon via t
 he Sunrooms website\n📲 More info dropping very soon\n\nDress sharp. Bri
 ng energy.\nBougee Day Party — where the DJs bring the heat and the crow
 d brings the class. 💎🔥
ATTACH;FMTTYPE=image/jpeg:https://sunrooms2.com/wp-content/uploads/2024/11
 /SR2_event-default2.jpg
CATEGORIES:Garage,House
END:VEVENT
BEGIN:VTIMEZONE
TZID:Europe/London
X-LIC-LOCATION:Europe/London
BEGIN:DAYLIGHT
DTSTART:20260329T020000
TZOFFSETFROM:+0000
TZOFFSETTO:+0100
TZNAME:BST
END:DAYLIGHT
END:VTIMEZONE
END:VCALENDAR