BEGIN:VCALENDAR
VERSION:2.0
PRODID:-//wp-events-plugin.com//7.2.1//EN
TZID:Europe/London
X-WR-TIMEZONE:Europe/London
BEGIN:VEVENT
UID:1608@sunrooms2.com
DTSTART;TZID=Europe/London:20260926T120000
DTEND;TZID=Europe/London:20260927T220000
DTSTAMP:20260110T190008Z
URL:https://sunrooms2.com/events/saturday-26th-september-travis-all-day-lo
 ng/
SUMMARY:Saturday 26th September - Travis All Day Long
DESCRIPTION:More info coming soon 
ATTACH;FMTTYPE=image/jpeg:https://sunrooms2.com/wp-content/uploads/2024/06
 /poster-1200.webp
CATEGORIES:Deep Grooves,Funky Soul,Hip Hop,House Music,Jazzfunk
END:VEVENT
BEGIN:VTIMEZONE
TZID:Europe/London
X-LIC-LOCATION:Europe/London
BEGIN:DAYLIGHT
DTSTART:20260329T020000
TZOFFSETFROM:+0000
TZOFFSETTO:+0100
TZNAME:BST
END:DAYLIGHT
END:VTIMEZONE
END:VCALENDAR