BEGIN:VCALENDAR
VERSION:2.0
PRODID:-//wp-events-plugin.com//7.2.1//EN
TZID:Europe/London
X-WR-TIMEZONE:Europe/London
BEGIN:VEVENT
UID:59@sunrooms2.com
DTSTART;TZID=Europe/London:20240525T210000
DTEND;TZID=Europe/London:20240526T030000
DTSTAMP:20240522T161357Z
URL:https://sunrooms2.com/events/saturday-25th-may-marc-antoni/
SUMMARY:Saturday 25th May - Marc Antoni
DESCRIPTION:Hey family\, this coming Saturday I'll be spinning some choonz 
 at the fabulous newly refurbished Sunrooms² in Southend!  Can't wait to e
 ntertain you with a wide spectrum of party music from Soulful House to 80s
  soul to Afro Beats to Rare Grooves... all that and THEN some.
ATTACH;FMTTYPE=image/jpeg:https://sunrooms2.com/wp-content/uploads/2024/05
 /Marc-Antoni-500-2.jpg
CATEGORIES:Funk,R&amp;B,smooth soul,Soulful House
END:VEVENT
BEGIN:VTIMEZONE
TZID:Europe/London
X-LIC-LOCATION:Europe/London
BEGIN:DAYLIGHT
DTSTART:20240331T020000
TZOFFSETFROM:+0000
TZOFFSETTO:+0100
TZNAME:BST
END:DAYLIGHT
END:VTIMEZONE
END:VCALENDAR