BEGIN:VCALENDAR
VERSION:2.0
PRODID:-//wp-events-plugin.com//7.2.1//EN
TZID:Europe/London
X-WR-TIMEZONE:Europe/London
BEGIN:VEVENT
UID:1700@sunrooms2.com
DTSTART;TZID=Europe/London:20260725T210000
DTEND;TZID=Europe/London:20260726T030000
DTSTAMP:20260326T130354Z
URL:https://sunrooms2.com/events/saturday-25th-july-amigaman-live-house-mu
 sic-band/
SUMMARY:Saturday 25th July -  Amigaman - Live House Music Band
DESCRIPTION:Live PA - Amigaman 
ATTACH;FMTTYPE=image/jpeg:https://sunrooms2.com/wp-content/uploads/2025/11
 /Screenshot_20260106_094622_Chrome.jpg
CATEGORIES:House
END:VEVENT
BEGIN:VTIMEZONE
TZID:Europe/London
X-LIC-LOCATION:Europe/London
BEGIN:DAYLIGHT
DTSTART:20260329T020000
TZOFFSETFROM:+0000
TZOFFSETTO:+0100
TZNAME:BST
END:DAYLIGHT
END:VTIMEZONE
END:VCALENDAR