BEGIN:VCALENDAR
VERSION:2.0
PRODID:-//wp-events-plugin.com//7.2.1//EN
TZID:Europe/London
X-WR-TIMEZONE:Europe/London
BEGIN:VEVENT
UID:1648@sunrooms2.com
DTSTART;TZID=Europe/London:20260530T120000
DTEND;TZID=Europe/London:20260531T030000
DTSTAMP:20260407T190149Z
URL:https://sunrooms2.com/events/saturday-25th-april-hot-mood-2/
SUMMARY:Saturday 30th May - JOOK SO - Day Rave
DESCRIPTION:Jook So bring the energy - Pure Day Rave Magic - More info comi
 ng soon
ATTACH;FMTTYPE=image/jpeg:https://sunrooms2.com/wp-content/uploads/2025/11
 /Screenshot_20260106_094622_Chrome.jpg
CATEGORIES:Funky House,Funky Soul
END:VEVENT
BEGIN:VTIMEZONE
TZID:Europe/London
X-LIC-LOCATION:Europe/London
BEGIN:DAYLIGHT
DTSTART:20260329T020000
TZOFFSETFROM:+0000
TZOFFSETTO:+0100
TZNAME:BST
END:DAYLIGHT
END:VTIMEZONE
END:VCALENDAR