BEGIN:VCALENDAR
VERSION:2.0
PRODID:-//wp-events-plugin.com//7.2.1//EN
TZID:Europe/London
X-WR-TIMEZONE:Europe/London
BEGIN:VEVENT
UID:1647@sunrooms2.com
DTSTART;TZID=Europe/London:20260522T200000
DTEND;TZID=Europe/London:20260523T150000
DTSTAMP:20260325T175558Z
URL:https://sunrooms2.com/events/saturday-21st-february-too-damn-cheeky-in
 -the-bar-free-entry-before-midnight/
SUMMARY:Friday 22nd May - Junior
DESCRIPTION:
ATTACH;FMTTYPE=image/jpeg:https://sunrooms2.com/wp-content/uploads/2025/01
 /too_damn_cheeky-500.webp
CATEGORIES:All,Disco,Disco House,Funky House,Tech House,Underground
 House,Uplifting Vocal House
END:VEVENT
BEGIN:VTIMEZONE
TZID:Europe/London
X-LIC-LOCATION:Europe/London
BEGIN:DAYLIGHT
DTSTART:20260329T020000
TZOFFSETFROM:+0000
TZOFFSETTO:+0100
TZNAME:BST
END:DAYLIGHT
END:VTIMEZONE
END:VCALENDAR