BEGIN:VCALENDAR
VERSION:2.0
PRODID:-//wp-events-plugin.com//7.2.1//EN
TZID:Europe/London
X-WR-TIMEZONE:Europe/London
BEGIN:VEVENT
UID:1680@sunrooms2.com
DTSTART;TZID=Europe/London:20260620T140000
DTEND;TZID=Europe/London:20260621T220000
DTSTAMP:20260312T105214Z
URL:https://sunrooms2.com/events/saturday-20th-june-raving-for-a-reason-ga
 rage-day-party/
SUMMARY:Saturday 20th June - Raving For A Reason  - GARAGE  - Day Party
DESCRIPTION:Raving for a reason - Garage Special - More info coming soon 
ATTACH;FMTTYPE=image/jpeg:https://sunrooms2.com/wp-content/uploads/2026/03
 /Raving-4-A-Reason-Logo_260312_091123.jpg
CATEGORIES:Garage
END:VEVENT
BEGIN:VTIMEZONE
TZID:Europe/London
X-LIC-LOCATION:Europe/London
BEGIN:DAYLIGHT
DTSTART:20260329T020000
TZOFFSETFROM:+0000
TZOFFSETTO:+0100
TZNAME:BST
END:DAYLIGHT
END:VTIMEZONE
END:VCALENDAR