BEGIN:VCALENDAR
VERSION:2.0
PRODID:-//wp-events-plugin.com//7.2.1//EN
TZID:Europe/London
X-WR-TIMEZONE:Europe/London
BEGIN:VEVENT
UID:1254@sunrooms2.com
DTSTART;TZID=Europe/London:20250913T200000
DTEND;TZID=Europe/London:20250914T030000
DTSTAMP:20250911T091857Z
URL:https://sunrooms2.com/events/saturday-13th-september-underground/
SUMMARY:Saturday 13th September - Sunrooms Presents
DESCRIPTION:Sunrooms 2 presents you some of the best young DJ talent.\n\nTi
 ckets: Skiddle
ATTACH;FMTTYPE=image/jpeg:https://sunrooms2.com/wp-content/uploads/2025/01
 /13-Sept_v2_600.jpg
CATEGORIES:Deep House,House,Tech House
END:VEVENT
BEGIN:VTIMEZONE
TZID:Europe/London
X-LIC-LOCATION:Europe/London
BEGIN:DAYLIGHT
DTSTART:20250330T020000
TZOFFSETFROM:+0000
TZOFFSETTO:+0100
TZNAME:BST
END:DAYLIGHT
END:VTIMEZONE
END:VCALENDAR