BEGIN:VCALENDAR
VERSION:2.0
PRODID:-//wp-events-plugin.com//7.2.1//EN
TZID:Europe/London
X-WR-TIMEZONE:Europe/London
BEGIN:VEVENT
UID:1563@sunrooms2.com
DTSTART;TZID=Europe/London:20261212T200000
DTEND;TZID=Europe/London:20261213T030000
DTSTAMP:20251128T161019Z
URL:https://sunrooms2.com/events/saturday-12th-december-sun-of-beach/
SUMMARY:Saturday 12th December - Sun of Beach
DESCRIPTION:
ATTACH;FMTTYPE=image/jpeg:https://sunrooms2.com/wp-content/uploads/2024/11
 /SR2_event-default2.jpg
CATEGORIES:DeepSoul,Disco,Funky House,Funky Soul,Latin House,Soulful
 House,Underground House,Uplifting Vocal House,Vocal House
END:VEVENT
BEGIN:VTIMEZONE
TZID:Europe/London
X-LIC-LOCATION:Europe/London
BEGIN:STANDARD
DTSTART:20261025T010000
TZOFFSETFROM:+0100
TZOFFSETTO:+0000
TZNAME:GMT
END:STANDARD
END:VTIMEZONE
END:VCALENDAR