BEGIN:VCALENDAR
VERSION:2.0
PRODID:-//wp-events-plugin.com//7.2.1//EN
TZID:Europe/London
X-WR-TIMEZONE:Europe/London
BEGIN:VEVENT
UID:1724@sunrooms2.com
DTSTART;TZID=Europe/London:20260711T000000
DTEND;TZID=Europe/London:20260711T220000
DTSTAMP:20260418T153326Z
URL:https://sunrooms2.com/events/saturday-11th-july-craig-garage-day-party
 /
SUMMARY:Saturday 11th July - Craig - Garage Day Party
DESCRIPTION:More info coming soon 
ATTACH;FMTTYPE=image/jpeg:https://sunrooms2.com/wp-content/uploads/2025/11
 /Screenshot_20260106_094622_Chrome.jpg
CATEGORIES:Garage
END:VEVENT
BEGIN:VTIMEZONE
TZID:Europe/London
X-LIC-LOCATION:Europe/London
BEGIN:DAYLIGHT
DTSTART:20260329T020000
TZOFFSETFROM:+0000
TZOFFSETTO:+0100
TZNAME:BST
END:DAYLIGHT
END:VTIMEZONE
END:VCALENDAR