BEGIN:VCALENDAR
VERSION:2.0
PRODID:-//wp-events-plugin.com//7.2.1//EN
TZID:Europe/London
X-WR-TIMEZONE:Europe/London
BEGIN:VEVENT
UID:1545@sunrooms2.com
DTSTART;TZID=Europe/London:20260704T130000
DTEND;TZID=Europe/London:20260705T220000
DTSTAMP:20251128T142648Z
URL:https://sunrooms2.com/events/sat-4th-july-frequency-machine-in-the-bar
 /
SUMMARY:Sat 4th July - Frequency Machine - In the Bar - Day Party
DESCRIPTION:
ATTACH;FMTTYPE=image/jpeg:https://sunrooms2.com/wp-content/uploads/2024/11
 /SR2_event-default2.jpg
CATEGORIES:DeepSoul,Disco,Funky House,Funky Soul
END:VEVENT
BEGIN:VTIMEZONE
TZID:Europe/London
X-LIC-LOCATION:Europe/London
BEGIN:DAYLIGHT
DTSTART:20260329T020000
TZOFFSETFROM:+0000
TZOFFSETTO:+0100
TZNAME:BST
END:DAYLIGHT
END:VTIMEZONE
END:VCALENDAR