BEGIN:VCALENDAR
VERSION:2.0
PRODID:-//wp-events-plugin.com//7.2.1//EN
TZID:Europe/London
X-WR-TIMEZONE:Europe/London
BEGIN:VEVENT
UID:987@sunrooms2.com
DTSTART;TZID=Europe/London:20250426T150000
DTEND;TZID=Europe/London:20250427T030000
DTSTAMP:20250423T104247Z
URL:https://sunrooms2.com/events/sat-26th-april-beat-freak/
SUMMARY:Saturday 26th April - Beat Freak Featuring Terry Francis
DESCRIPTION:Robin ee and the gang present cutting edge Underground House.\n
 Tickets: Skiddle
ATTACH;FMTTYPE=image/jpeg:https://sunrooms2.com/wp-content/uploads/2024/11
 /Beatfreak-26th-April2_A2-landscape_800.jpg
CATEGORIES:Deep House,Deep Tech,Garage,House Music,Tech House
END:VEVENT
BEGIN:VTIMEZONE
TZID:Europe/London
X-LIC-LOCATION:Europe/London
BEGIN:DAYLIGHT
DTSTART:20250330T020000
TZOFFSETFROM:+0000
TZOFFSETTO:+0100
TZNAME:BST
END:DAYLIGHT
END:VTIMEZONE
END:VCALENDAR