BEGIN:VCALENDAR
VERSION:2.0
PRODID:-//wp-events-plugin.com//7.2.1//EN
TZID:Europe/London
X-WR-TIMEZONE:Europe/London
BEGIN:VEVENT
UID:687@sunrooms2.com
DTSTART;TZID=Europe/London:20241206T200000
DTEND;TZID=Europe/London:20241207T030000
DTSTAMP:20241116T175147Z
URL:https://sunrooms2.com/events/friday-6th-december-raving-4-a-reason-xma
 s-party/
SUMMARY:Friday 6th December - Raving 4 a Reason Xmas Party
DESCRIPTION:Raving 4 a Reason returns\, this party brings top quality D&amp
 \;B DJs and freshest D&amp\;B sounds
ATTACH;FMTTYPE=image/jpeg:https://sunrooms2.com/wp-content/uploads/2024/04
 /Raving-6-dec_sq.jpg
CATEGORIES:D&amp;B,Garage,Jungle
END:VEVENT
BEGIN:VTIMEZONE
TZID:Europe/London
X-LIC-LOCATION:Europe/London
BEGIN:STANDARD
DTSTART:20241027T010000
TZOFFSETFROM:+0100
TZOFFSETTO:+0000
TZNAME:GMT
END:STANDARD
END:VTIMEZONE
END:VCALENDAR