BEGIN:VCALENDAR
VERSION:2.0
PRODID:-//wp-events-plugin.com//7.2.1//EN
TZID:Europe/London
X-WR-TIMEZONE:Europe/London
BEGIN:VEVENT
UID:1665@sunrooms2.com
DTSTART;TZID=Europe/London:20260605T200000
DTEND;TZID=Europe/London:20260606T150000
DTSTAMP:20260416T233140Z
URL:https://sunrooms2.com/events/friday-5th-june-too-damn-cheeky-in-the-ba
 r/
SUMMARY:Friday 5th June  - Too Damn Cheeky In The Bar
DESCRIPTION:Resident DJs on Rotation -Biiby & Top Fella - Someone on Earth 
 - SS Groove - Fraiz - Dr A \n\nPlus very special Guests
ATTACH;FMTTYPE=image/jpeg:https://sunrooms2.com/wp-content/uploads/2025/01
 /too_damn_cheeky-500.webp
CATEGORIES:All,Disco,Disco House,Funky House,Tech House,Underground
 House,Uplifting Vocal House
END:VEVENT
BEGIN:VTIMEZONE
TZID:Europe/London
X-LIC-LOCATION:Europe/London
BEGIN:DAYLIGHT
DTSTART:20260329T020000
TZOFFSETFROM:+0000
TZOFFSETTO:+0100
TZNAME:BST
END:DAYLIGHT
END:VTIMEZONE
END:VCALENDAR