BEGIN:VCALENDAR
VERSION:2.0
PRODID:-//wp-events-plugin.com//7.2.1//EN
TZID:Europe/London
X-WR-TIMEZONE:Europe/London
BEGIN:VEVENT
UID:1569@sunrooms2.com
DTSTART;TZID=Europe/London:20260605T220000
DTEND;TZID=Europe/London:20260606T040000
DTSTAMP:20260330T131011Z
URL:https://sunrooms2.com/events/friday-5th-june-old-school-garage/
SUMMARY:Friday 5th June - D&B in the Loft - 10pm - 4am
DESCRIPTION:D&B SESSIONS  played by some of the best local talent plus very
  special guests DJs
ATTACH;FMTTYPE=image/jpeg:https://sunrooms2.com/wp-content/uploads/2024/11
 /SR2_event-default2.jpg
CATEGORIES:Garage
END:VEVENT
BEGIN:VTIMEZONE
TZID:Europe/London
X-LIC-LOCATION:Europe/London
BEGIN:DAYLIGHT
DTSTART:20260329T020000
TZOFFSETFROM:+0000
TZOFFSETTO:+0100
TZNAME:BST
END:DAYLIGHT
END:VTIMEZONE
END:VCALENDAR