BEGIN:VCALENDAR
VERSION:2.0
PRODID:-//wp-events-plugin.com//7.2.1//EN
TZID:Europe/London
X-WR-TIMEZONE:Europe/London
BEGIN:VEVENT
UID:1559@sunrooms2.com
DTSTART;TZID=Europe/London:20261030T000000
DTEND;TZID=Europe/London:20261031T000000
DTSTAMP:20251128T155306Z
URL:https://sunrooms2.com/events/friday-30th-october-konnected-halloween-p
 arty/
SUMMARY:Friday 30th October - KONNECTED - Halloween Party
DESCRIPTION:
ATTACH;FMTTYPE=image/jpeg:https://sunrooms2.com/wp-content/uploads/2024/06
 /IMG_5652_500.jpg
CATEGORIES:Funky House
END:VEVENT
BEGIN:VTIMEZONE
TZID:Europe/London
X-LIC-LOCATION:Europe/London
BEGIN:STANDARD
DTSTART:20261025T010000
TZOFFSETFROM:+0100
TZOFFSETTO:+0000
TZNAME:GMT
END:STANDARD
END:VTIMEZONE
END:VCALENDAR