BEGIN:VCALENDAR
VERSION:2.0
PRODID:-//wp-events-plugin.com//7.2.1//EN
TZID:Europe/London
X-WR-TIMEZONE:Europe/London
BEGIN:VEVENT
UID:396@sunrooms2.com
DTSTART;TZID=Europe/London:20240927T200000
DTEND;TZID=Europe/London:20240928T030000
DTSTAMP:20240913T153836Z
URL:https://sunrooms2.com/events/friday-27th-sept-left-of-centre/
SUMMARY:Friday 27th September - Left of Centre
DESCRIPTION:An up-for-it crowd and all things House Music
ATTACH;FMTTYPE=image/jpeg:https://sunrooms2.com/wp-content/uploads/2024/09
 /LOC-27-Sept-1.jpg
CATEGORIES:Afro House,Balearic House,Deep House,Deep Tech,House,Latin
 House,Soulful House
END:VEVENT
BEGIN:VTIMEZONE
TZID:Europe/London
X-LIC-LOCATION:Europe/London
BEGIN:DAYLIGHT
DTSTART:20240331T020000
TZOFFSETFROM:+0000
TZOFFSETTO:+0100
TZNAME:BST
END:DAYLIGHT
END:VTIMEZONE
END:VCALENDAR