BEGIN:VCALENDAR
VERSION:2.0
PRODID:-//wp-events-plugin.com//7.2.1//EN
TZID:Europe/London
X-WR-TIMEZONE:Europe/London
BEGIN:VEVENT
UID:1697@sunrooms2.com
DTSTART;TZID=Europe/London:20260925T200000
DTEND;TZID=Europe/London:20260926T030000
DTSTAMP:20260321T195913Z
URL:https://sunrooms2.com/events/friday-25th-september-sisters-in-s0und-me
 ets-axis-all-girl-dj-line-up-in-the-bar-terrace-loft-axis/
SUMMARY:Friday 25th September - Sisters In S0und - Meets -  AXIS - All Girl
  Dj Line Up In The  Bar - Terrace & Loft = AXIS
DESCRIPTION:All girl Dj Line Up - Playing Cools As House 
ATTACH;FMTTYPE=image/jpeg:https://sunrooms2.com/wp-content/uploads/2025/11
 /Screenshot_20260106_094622_Chrome.jpg
CATEGORIES:Soulful House,Tech House,UK Garage,Underground House
END:VEVENT
BEGIN:VTIMEZONE
TZID:Europe/London
X-LIC-LOCATION:Europe/London
BEGIN:DAYLIGHT
DTSTART:20260329T020000
TZOFFSETFROM:+0000
TZOFFSETTO:+0100
TZNAME:BST
END:DAYLIGHT
END:VTIMEZONE
END:VCALENDAR