BEGIN:VCALENDAR
VERSION:2.0
PRODID:-//wp-events-plugin.com//7.2.1//EN
TZID:Europe/London
X-WR-TIMEZONE:Europe/London
BEGIN:VEVENT
UID:1600@sunrooms2.com
DTSTART;TZID=Europe/London:20260523T200000
DTEND;TZID=Europe/London:20260524T030000
DTSTAMP:20260108T104742Z
URL:https://sunrooms2.com/events/friday-23rd-may-in-effect/
SUMMARY:Saturday 23rd May - IN EFFECT
DESCRIPTION:The IN EFFECT Sessions always pack out and bring you some of th
 e best local Dj talent.\nGreat music - Wicked crowd of cool cats & cute ki
 ttens. 
ATTACH;FMTTYPE=image/jpeg:https://sunrooms2.com/wp-content/uploads/2026/01
 /Screenshot_20260108_103126_WhatsApp.jpg
CATEGORIES:Funky House,Garage,Tech House
END:VEVENT
BEGIN:VTIMEZONE
TZID:Europe/London
X-LIC-LOCATION:Europe/London
BEGIN:DAYLIGHT
DTSTART:20260329T020000
TZOFFSETFROM:+0000
TZOFFSETTO:+0100
TZNAME:BST
END:DAYLIGHT
END:VTIMEZONE
END:VCALENDAR