BEGIN:VCALENDAR
VERSION:2.0
PRODID:-//wp-events-plugin.com//7.2.1//EN
TZID:Europe/London
X-WR-TIMEZONE:Europe/London
BEGIN:VEVENT
UID:994@sunrooms2.com
DTSTART;TZID=Europe/London:20250620T200000
DTEND;TZID=Europe/London:20250621T030000
DTSTAMP:20250605T212325Z
URL:https://sunrooms2.com/events/friday-20th-june-ed-isco-return/
SUMMARY:Friday 20th June - LOCOMOTIVE
DESCRIPTION:A brand new TECH HOUSE night arrives at sunrooms²
ATTACH;FMTTYPE=image/jpeg:https://sunrooms2.com/wp-content/uploads/2024/11
 /loco_4x5_600.jpg
CATEGORIES:Tech House
END:VEVENT
BEGIN:VTIMEZONE
TZID:Europe/London
X-LIC-LOCATION:Europe/London
BEGIN:DAYLIGHT
DTSTART:20250330T020000
TZOFFSETFROM:+0000
TZOFFSETTO:+0100
TZNAME:BST
END:DAYLIGHT
END:VTIMEZONE
END:VCALENDAR