BEGIN:VCALENDAR
VERSION:2.0
PRODID:-//wp-events-plugin.com//7.2.1//EN
TZID:Europe/London
X-WR-TIMEZONE:Europe/London
BEGIN:VEVENT
UID:1678@sunrooms2.com
DTSTART;TZID=Europe/London:20260501T220000
DTEND;TZID=Europe/London:20260502T030000
DTSTAMP:20260312T084231Z
URL:https://sunrooms2.com/events/friday-1st-may-too-damn-cheeky-in-the-bar
 -free-entry-before-midnight/
SUMMARY:Friday 1st May - Too Damn Cheeky In The Bar - Free Entry before Mid
 night
DESCRIPTION:The ultimate Funky House & Disco session with a sprinkle of Dee
 p House . Too Damn Cheeky was born in the mid 90s hosting nights at all of
  the top venues in London \, Such as Heaven \,\nThe Cross \, Propaganda an
 d held a long running monthly residency at the Hanover Grand.        
                                                  
                                                  
                       There was also a sister night in New York
 \n\nResident DJs on Rotation -Biiby - Someone on Earth - SS Groove - Funky
  Soul - DR A - Desmond Windscombe \n\nPlus very special Guests
ATTACH;FMTTYPE=image/jpeg:https://sunrooms2.com/wp-content/uploads/2025/01
 /too_damn_cheeky-500.webp
CATEGORIES:All,Disco,Disco House,Funky House,Tech House,Underground
 House,Uplifting Vocal House
END:VEVENT
BEGIN:VTIMEZONE
TZID:Europe/London
X-LIC-LOCATION:Europe/London
BEGIN:DAYLIGHT
DTSTART:20260329T020000
TZOFFSETFROM:+0000
TZOFFSETTO:+0100
TZNAME:BST
END:DAYLIGHT
END:VTIMEZONE
END:VCALENDAR