BEGIN:VCALENDAR
VERSION:2.0
PRODID:-//wp-events-plugin.com//7.2.1//EN
TZID:Europe/London
X-WR-TIMEZONE:Europe/London
BEGIN:VEVENT
UID:1540@sunrooms2.com
DTSTART;TZID=Europe/London:20260501T200000
DTEND;TZID=Europe/London:20260502T030000
DTSTAMP:20260312T083801Z
URL:https://sunrooms2.com/events/friday-1st-may-delerium-free-entry-before
 -midnight/
SUMMARY:Friday 1st May -  ALBUM LAUNCH PARTY - LOFT
DESCRIPTION:More info coming soon 
ATTACH;FMTTYPE=image/jpeg:https://sunrooms2.com/wp-content/uploads/2025/11
 /Screenshot_20260106_094622_Chrome.jpg
CATEGORIES:House,Indie,Tech House,Underground House,Vocal House
END:VEVENT
BEGIN:VTIMEZONE
TZID:Europe/London
X-LIC-LOCATION:Europe/London
BEGIN:DAYLIGHT
DTSTART:20260329T020000
TZOFFSETFROM:+0000
TZOFFSETTO:+0100
TZNAME:BST
END:DAYLIGHT
END:VTIMEZONE
END:VCALENDAR