BEGIN:VCALENDAR
VERSION:2.0
PRODID:-//wp-events-plugin.com//7.2.1//EN
TZID:Europe/London
X-WR-TIMEZONE:Europe/London
BEGIN:VEVENT
UID:1733@sunrooms2.com
DTSTART;TZID=Europe/London:20260918T200000
DTEND;TZID=Europe/London:20260919T030000
DTSTAMP:20260420T234133Z
URL:https://sunrooms2.com/events/friday-18th-september-db-in-the-loft/
SUMMARY:Friday 18th September - D&B - In the Loft
DESCRIPTION:More info soon 
ATTACH;FMTTYPE=image/jpeg:https://sunrooms2.com/wp-content/uploads/2025/11
 /Screenshot_20260106_094622_Chrome.jpg
CATEGORIES:D&amp;B
END:VEVENT
BEGIN:VTIMEZONE
TZID:Europe/London
X-LIC-LOCATION:Europe/London
BEGIN:DAYLIGHT
DTSTART:20260329T020000
TZOFFSETFROM:+0000
TZOFFSETTO:+0100
TZNAME:BST
END:DAYLIGHT
END:VTIMEZONE
END:VCALENDAR