BEGIN:VCALENDAR
VERSION:2.0
PRODID:-//wp-events-plugin.com//7.2.1//EN
TZID:Europe/London
X-WR-TIMEZONE:Europe/London
BEGIN:VEVENT
UID:1520@sunrooms2.com
DTSTART;TZID=Europe/London:20260814T200000
DTEND;TZID=Europe/London:20260815T030000
DTSTAMP:20260226T131918Z
URL:https://sunrooms2.com/events/friday-14th-august-move/
SUMMARY:Friday 14th August  - HEAVY WEIGHT HOUSE -
DESCRIPTION:The third instalment of heavy weight House - More info coming s
 oon 
ATTACH;FMTTYPE=image/jpeg:https://sunrooms2.com/wp-content/uploads/2025/11
 /IMG-20260221-WA0017.jpg
CATEGORIES:Deep House,Disco,Funky House,Latin House,Soulful House,Tech
 House,Underground House,Vocal House
END:VEVENT
BEGIN:VTIMEZONE
TZID:Europe/London
X-LIC-LOCATION:Europe/London
BEGIN:DAYLIGHT
DTSTART:20260329T020000
TZOFFSETFROM:+0000
TZOFFSETTO:+0100
TZNAME:BST
END:DAYLIGHT
END:VTIMEZONE
END:VCALENDAR