BEGIN:VCALENDAR
VERSION:2.0
PRODID:-//wp-events-plugin.com//7.2.1//EN
TZID:Europe/London
X-WR-TIMEZONE:Europe/London
BEGIN:VEVENT
UID:1523@sunrooms2.com
DTSTART;TZID=Europe/London:20261113T200000
DTEND;TZID=Europe/London:20261114T030000
DTSTAMP:20251127T222217Z
URL:https://sunrooms2.com/events/friday-13th-november-move/
SUMMARY:Friday 13th November  - Move
DESCRIPTION:
ATTACH;FMTTYPE=image/jpeg:https://sunrooms2.com/wp-content/uploads/2025/11
 /Screenshot_20251127_194050_Chrome.jpg
CATEGORIES:DeepSoul,Disco,Funky House,Funky Soul,Latin House,Soulful
 House,Underground House,Uplifting Vocal House,Vocal House
END:VEVENT
BEGIN:VTIMEZONE
TZID:Europe/London
X-LIC-LOCATION:Europe/London
BEGIN:STANDARD
DTSTART:20261025T010000
TZOFFSETFROM:+0100
TZOFFSETTO:+0000
TZNAME:GMT
END:STANDARD
END:VTIMEZONE
END:VCALENDAR