BEGIN:VCALENDAR
VERSION:2.0
PRODID:-//wp-events-plugin.com//7.2.1//EN
TZID:Europe/London
X-WR-TIMEZONE:Europe/London
BEGIN:VEVENT
UID:1521@sunrooms2.com
DTSTART;TZID=Europe/London:20260911T200000
DTEND;TZID=Europe/London:20260912T030000
DTSTAMP:20251127T221929Z
URL:https://sunrooms2.com/events/friday-11th-september-move/
SUMMARY:Friday 11th September  - Move
DESCRIPTION:
ATTACH;FMTTYPE=image/jpeg:https://sunrooms2.com/wp-content/uploads/2025/11
 /Screenshot_20251127_194050_Chrome.jpg
CATEGORIES:DeepSoul,Disco,Funky House,Funky Soul,Latin House,Soulful
 House,Underground House,Uplifting Vocal House,Vocal House
END:VEVENT
BEGIN:VTIMEZONE
TZID:Europe/London
X-LIC-LOCATION:Europe/London
BEGIN:DAYLIGHT
DTSTART:20260329T020000
TZOFFSETFROM:+0000
TZOFFSETTO:+0100
TZNAME:BST
END:DAYLIGHT
END:VTIMEZONE
END:VCALENDAR