BEGIN:VCALENDAR
VERSION:2.0
PRODID:-//wp-events-plugin.com//7.2.1//EN
TZID:Europe/London
X-WR-TIMEZONE:Europe/London
BEGIN:VEVENT
UID:1516@sunrooms2.com
DTSTART;TZID=Europe/London:20260508T200000
DTEND;TZID=Europe/London:20260509T030000
DTSTAMP:20260224T193424Z
URL:https://sunrooms2.com/events/friday-10th-april-move/
SUMMARY:Friday 8th May - Heavy Weight House
DESCRIPTION:Steve Manns Second Instalment of this Quality House Night - Mor
 e Info Coming Soon 
ATTACH;FMTTYPE=image/jpeg:https://sunrooms2.com/wp-content/uploads/2025/11
 /IMG-20260221-WA0017.jpg
CATEGORIES:Deep House,Disco,Funky House,Latin House,Tech House,Underground
 House,Uplifting Vocal House
END:VEVENT
BEGIN:VTIMEZONE
TZID:Europe/London
X-LIC-LOCATION:Europe/London
BEGIN:DAYLIGHT
DTSTART:20260329T020000
TZOFFSETFROM:+0000
TZOFFSETTO:+0100
TZNAME:BST
END:DAYLIGHT
END:VTIMEZONE
END:VCALENDAR