BEGIN:VCALENDAR
VERSION:2.0
PRODID:-//wp-events-plugin.com//7.2.1//EN
TZID:Europe/London
X-WR-TIMEZONE:Europe/London
BEGIN:VEVENT
UID:689@sunrooms2.com
DTSTART;TZID=Europe/London:20241004T170000
DTEND;TZID=Europe/London:20241005T030000
DTSTAMP:20240916T181147Z
URL:https://sunrooms2.com/events/fri-4th-oct-goning-back-to-our-roots-free
 -entry-copy/
SUMMARY:Friday 4th October - Going Back To Our Roots
DESCRIPTION:Mark Hughes and the gang return to their first Friday of the mo
 nth residency. Outstanding Disco - Soul - Funk Grooves played by wicked DJ
 s from the Soul Nights Out In Essex stable . This is one of our favourite 
 monthly events. All we can say is it's time to boogie with the fab into-it
  crowd that this event attracts.
ATTACH;FMTTYPE=image/jpeg:https://sunrooms2.com/wp-content/uploads/2024/09
 /Soul-Nights-Out-4-October-poster700.jpg
CATEGORIES:DeepSoul,Disco,Funk,Funky Soul,Soul,Soulful House
END:VEVENT
BEGIN:VTIMEZONE
TZID:Europe/London
X-LIC-LOCATION:Europe/London
BEGIN:DAYLIGHT
DTSTART:20240331T020000
TZOFFSETFROM:+0000
TZOFFSETTO:+0100
TZNAME:BST
END:DAYLIGHT
END:VTIMEZONE
END:VCALENDAR