BEGIN:VCALENDAR
VERSION:2.0
PRODID:-//wp-events-plugin.com//7.2.1//EN
TZID:Europe/London
X-WR-TIMEZONE:Europe/London
BEGIN:VEVENT
UID:1732@sunrooms2.com
DTSTART;TZID=Europe/London:20260504T140000
DTEND;TZID=Europe/London:20260504T220000
DTSTAMP:20260420T161106Z
URL:https://sunrooms2.com/events/bank-holiday-monday-the-ritual-bank-holid
 ay-special-2pm-10pm-free-entry/
SUMMARY:Bank Holiday Monday  - The Ritual Bank Holiday Special - 2pm - 10pm
   - Free Entry
DESCRIPTION:Bank Holiday Monday Sessions @ Sunrooms2
ATTACH;FMTTYPE=image/jpeg:https://sunrooms2.com/wp-content/uploads/2026/03
 /Screenshot_20260303_195810_WhatsApp.jpg
CATEGORIES:All
END:VEVENT
BEGIN:VTIMEZONE
TZID:Europe/London
X-LIC-LOCATION:Europe/London
BEGIN:DAYLIGHT
DTSTART:20260329T020000
TZOFFSETFROM:+0000
TZOFFSETTO:+0100
TZNAME:BST
END:DAYLIGHT
END:VTIMEZONE
END:VCALENDAR